BEGIN:VCALENDAR
VERSION:2.0
PRODID:-//Llandaff & Monmouth DACBR//NONSGML kigkonsult.se iCalcreator 2.41.92//
CALSCALE:GREGORIAN
METHOD:PUBLISH
UID:36666536-6265-4165-a666-656131616665
X-WR-CALNAME:iCagenda
X-WR-CALDESC:Event Management Extension for Joomla!
X-WR-RELCALID:3E26604A-50F4-4449-8B3E-E4F4932D05B5
X-WR-TIMEZONE:Europe/London
BEGIN:VTIMEZONE
TZID:Europe/London
TZUNTIL:20271031T010000Z
BEGIN:STANDARD
TZNAME:GMT
DTSTART:20251026T020000
TZOFFSETFROM:+0100
TZOFFSETTO:+0000
RDATE:20261025T020000
END:STANDARD
BEGIN:DAYLIGHT
TZNAME:BST
DTSTART:20260329T010000
TZOFFSETFROM:+0000
TZOFFSETTO:+0100
RDATE:20270328T010000
END:DAYLIGHT
END:VTIMEZONE
BEGIN:VEVENT
UID:30383833-3931-4533-b639-363636303364
DTSTAMP:20260421T011137Z
CATEGORIES:Surprise Major Practices
CLASS:PUBLIC
DESCRIPTION;ALTREP="CID:<FFFF__=0ABBE548DFE235B58f9e8a93d@coffeebean.com>":
 Open Practice - all welcome!
DTSTART:20260420T183000Z
DTEND:20260420T200000Z
GEO:+51.495747;-3.217854
LOCATION:Llandaff Cathedral
ORGANIZER;CN=:mailto:major@llanmon.org.uk
SEQUENCE:1
SUMMARY:Association S Major Practice
TRANSP:OPAQUE
URL:https://www.llanmon.org.uk/events-list/past-events/association-s-major-
 practice-apr2026?layout=vcal
END:VEVENT
END:VCALENDAR
